BEGIN:VCALENDAR
VERSION:2.0
PRODID:-//林口康橋國際學校 - ECPv6.15.20//NONSGML v1.0//EN
CALSCALE:GREGORIAN
METHOD:PUBLISH
X-ORIGINAL-URL:https://web.kcislk.ntpc.edu.tw
X-WR-CALDESC:Events for 林口康橋國際學校
REFRESH-INTERVAL;VALUE=DURATION:PT1H
X-Robots-Tag:noindex
X-PUBLISHED-TTL:PT1H
BEGIN:VTIMEZONE
TZID:Asia/Taipei
BEGIN:STANDARD
TZOFFSETFROM:+0800
TZOFFSETTO:+0800
TZNAME:CST
DTSTART:20240101T000000
END:STANDARD
END:VTIMEZONE
BEGIN:VEVENT
DTSTART;TZID=Asia/Taipei:20250912T090000
DTEND;TZID=Asia/Taipei:20250912T110000
DTSTAMP:20260424T052904
CREATED:20250822T005752Z
LAST-MODIFIED:20250822T013336Z
UID:43344-1757667600-1757674800@web.kcislk.ntpc.edu.tw
SUMMARY:全方位主題課程介紹 – 英文科 Comprehensive session – English
DESCRIPTION:Event Target: Parents of New Students IP\nOrganizer: IPD\, Secondary School\nRegistration Link: https://forms.gle/VXM8ECQbfvvHZ6Bc9\n*Please refer to the internal school announcement for event details. \n活動對象：新生家長 IP\n主辦單位：中學國際處\n報名連結：https://forms.gle/VXM8ECQbfvvHZ6Bc9\n※活動細節請依校內公告為準
URL:https://web.kcislk.ntpc.edu.tw/event/%e5%85%a8%e6%96%b9%e4%bd%8d%e4%b8%bb%e9%a1%8c%e8%aa%b2%e7%a8%8b%e4%bb%8b%e7%b4%b9-%e8%8b%b1%e6%96%87%e7%a7%91-comprehensive-session-english-3/
LOCATION:林口康橋國際學校 小劇場\, 新北市林口區興林路55號\, Linkou\, New Taipei City\, 244\, Taiwan
CATEGORIES:中學部國際處 (SS IPD)
ATTACH;FMTTYPE=image/png:https://web.kcislk.ntpc.edu.tw/wp-content/uploads/2023/08/kcislkteams-1.png
END:VEVENT
BEGIN:VEVENT
DTSTART;TZID=Asia/Taipei:20250913T083000
DTEND;TZID=Asia/Taipei:20250913T163000
DTSTAMP:20260424T052904
CREATED:20250822T052351Z
LAST-MODIFIED:20250822T052351Z
UID:43398-1757752200-1757781000@web.kcislk.ntpc.edu.tw
SUMMARY:114-1小學部班親會暨登高山說明會
DESCRIPTION:Event Target: G1-G6 parents\nOrganizer: DSA\, Elementary School\nRegistration Link: https://activity.kcislk.ntpc.edu.tw/ \n*Please refer to the internal school announcement for event details. \n活動對象：G1-G6家長\n主辦單位：小學學務處\n報名連結：https://activity.kcislk.ntpc.edu.tw/ \n※活動細節請依校內公告為準
URL:https://web.kcislk.ntpc.edu.tw/event/114-1%e5%b0%8f%e5%ad%b8%e9%83%a8%e7%8f%ad%e8%a6%aa%e6%9c%83%e6%9a%a8%e7%99%bb%e9%ab%98%e5%b1%b1%e8%aa%aa%e6%98%8e%e6%9c%83/
LOCATION:林口康橋國際學校 小學樓、小劇場、演藝廳\, 新北市林口區興林路55號\, Linkou\, New Taipei City\, 244\, Taiwan
CATEGORIES:小學學務處 (ES DSA)
ATTACH;FMTTYPE=image/png:https://web.kcislk.ntpc.edu.tw/wp-content/uploads/2023/08/kcislkteams-7.png
END:VEVENT
BEGIN:VEVENT
DTSTART;TZID=Asia/Taipei:20250918T090000
DTEND;TZID=Asia/Taipei:20250918T110000
DTSTAMP:20260424T052904
CREATED:20250822T014936Z
LAST-MODIFIED:20250903T015115Z
UID:43347-1758186000-1758193200@web.kcislk.ntpc.edu.tw
SUMMARY:全方位主題課程介紹 – 數學\, 自然\, 社會科 Comprehensive session – Math\, Science and Social Studies
DESCRIPTION:Event Target: Parents of New Students IP\nOrganizer: IPD\, Secondary School\nRegistration Link：https://forms.gle/VXM8ECQbfvvHZ6Bc9 \n*Please refer to the internal school announcement for event details. \n活動對象：新生家長 IP\n主辦單位：中學國際處\n報名連結：https://forms.gle/VXM8ECQbfvvHZ6Bc9 \n※活動細節請依校內公告為準
URL:https://web.kcislk.ntpc.edu.tw/event/%e5%85%a8%e6%96%b9%e4%bd%8d%e4%b8%bb%e9%a1%8c%e8%aa%b2%e7%a8%8b%e4%bb%8b%e7%b4%b9-%e6%95%b8%e5%ad%b8-%e8%87%aa%e7%84%b6-%e7%a4%be%e6%9c%83%e7%a7%91-comprehensive-session-math-sc-2/
LOCATION:林口康橋國際學校 小劇場\, 新北市林口區興林路55號\, Linkou\, New Taipei City\, 244\, Taiwan
CATEGORIES:中學部國際處 (SS IPD)
ATTACH;FMTTYPE=image/png:https://web.kcislk.ntpc.edu.tw/wp-content/uploads/2023/08/kcislkteams-1.png
END:VEVENT
BEGIN:VEVENT
DTSTART;TZID=Asia/Taipei:20250919T140000
DTEND;TZID=Asia/Taipei:20250919T160000
DTSTAMP:20260424T052904
CREATED:20250822T050340Z
LAST-MODIFIED:20250903T014748Z
UID:43392-1758290400-1758297600@web.kcislk.ntpc.edu.tw
SUMMARY:家長成長學堂 I：如何陪伴孩子學英文
DESCRIPTION:Event Target: G1-G6 parents\nOrganizer: DSA\, Elementary School\nRegistration Link: https://reurl.cc/rYo9k1 \n*Please refer to the internal school announcement for event details. \n活動對象：G1-G6家長\n主辦單位：小學學務處\n報名連結：https://reurl.cc/rYo9k1 \n※活動細節請依校內公告為準
URL:https://web.kcislk.ntpc.edu.tw/event/%e5%ae%b6%e9%95%b7%e6%88%90%e9%95%b7%e5%ad%b8%e5%a0%82-i%ef%bc%9a%e5%a6%82%e4%bd%95%e9%99%aa%e4%bc%b4%e5%ad%a9%e5%ad%90%e5%ad%b8%e8%8b%b1%e6%96%87/
LOCATION:林口康橋國際學校 小劇場\, 新北市林口區興林路55號\, Linkou\, New Taipei City\, 244\, Taiwan
CATEGORIES:小學學務處 (ES DSA)
ATTACH;FMTTYPE=image/png:https://web.kcislk.ntpc.edu.tw/wp-content/uploads/2023/08/kcislkteams-7.png
END:VEVENT
BEGIN:VEVENT
DTSTART;TZID=Asia/Taipei:20250920T080000
DTEND;TZID=Asia/Taipei:20250920T120000
DTSTAMP:20260424T052904
CREATED:20250822T025700Z
LAST-MODIFIED:20250910T065137Z
UID:43370-1758355200-1758369600@web.kcislk.ntpc.edu.tw
SUMMARY:中學部第一學期班親會 Parent Teacher Conference
DESCRIPTION:Event Target: G7-G12 parents\nOrganizer: SDCC\, Secondary School\nRegistration Link：https://sites.google.com/kcislk.ntpc.edu.tw/kcislkptc/ \n*Please refer to the internal school announcement for event details. \n活動對象：G7-G12家長\n主辦單位：中學部學生發展諮輔中心\n報名連結：https://sites.google.com/kcislk.ntpc.edu.tw/kcislkptc/ \n※活動細節請依校內公告為準
URL:https://web.kcislk.ntpc.edu.tw/event/%e4%b8%ad%e5%ad%b8%e9%83%a8%e7%ac%ac%e4%b8%80%e5%ad%b8%e6%9c%9f%e7%8f%ad%e8%a6%aa%e6%9c%83-parent-teacher-conference/
LOCATION:林口康橋國際學校 中學樓、體育館 (Secondary School Building\, Gymnasium)\, 新北市林口區興林路55號\, Linkou\, New Taipei City\, 244\, Taiwan
CATEGORIES:中學部學生發展諮輔中心 (SDCC)
ATTACH;FMTTYPE=image/png:https://web.kcislk.ntpc.edu.tw/wp-content/uploads/2023/08/kcislkteams-3.png
END:VEVENT
END:VCALENDAR