BEGIN:VCALENDAR
VERSION:2.0
PRODID:-//林口康橋國際學校 - ECPv6.15.20//NONSGML v1.0//EN
CALSCALE:GREGORIAN
METHOD:PUBLISH
X-ORIGINAL-URL:https://web.kcislk.ntpc.edu.tw
X-WR-CALDESC:Events for 林口康橋國際學校
REFRESH-INTERVAL;VALUE=DURATION:PT1H
X-Robots-Tag:noindex
X-PUBLISHED-TTL:PT1H
BEGIN:VTIMEZONE
TZID:Asia/Taipei
BEGIN:STANDARD
TZOFFSETFROM:+0800
TZOFFSETTO:+0800
TZNAME:CST
DTSTART:20240101T000000
END:STANDARD
END:VTIMEZONE
BEGIN:VEVENT
DTSTART;TZID=Asia/Taipei:20250913T083000
DTEND;TZID=Asia/Taipei:20250913T163000
DTSTAMP:20260424T071638
CREATED:20250822T052351Z
LAST-MODIFIED:20250822T052351Z
UID:43398-1757752200-1757781000@web.kcislk.ntpc.edu.tw
SUMMARY:114-1小學部班親會暨登高山說明會
DESCRIPTION:Event Target: G1-G6 parents\nOrganizer: DSA\, Elementary School\nRegistration Link: https://activity.kcislk.ntpc.edu.tw/ \n*Please refer to the internal school announcement for event details. \n活動對象：G1-G6家長\n主辦單位：小學學務處\n報名連結：https://activity.kcislk.ntpc.edu.tw/ \n※活動細節請依校內公告為準
URL:https://web.kcislk.ntpc.edu.tw/event/114-1%e5%b0%8f%e5%ad%b8%e9%83%a8%e7%8f%ad%e8%a6%aa%e6%9c%83%e6%9a%a8%e7%99%bb%e9%ab%98%e5%b1%b1%e8%aa%aa%e6%98%8e%e6%9c%83/
LOCATION:林口康橋國際學校 小學樓、小劇場、演藝廳\, 新北市林口區興林路55號\, Linkou\, New Taipei City\, 244\, Taiwan
CATEGORIES:小學學務處 (ES DSA)
ATTACH;FMTTYPE=image/png:https://web.kcislk.ntpc.edu.tw/wp-content/uploads/2023/08/kcislkteams-7.png
END:VEVENT
END:VCALENDAR