BEGIN:VCALENDAR
VERSION:2.0
PRODID:-//林口康橋國際學校 - ECPv6.15.20//NONSGML v1.0//EN
CALSCALE:GREGORIAN
METHOD:PUBLISH
X-WR-CALNAME:林口康橋國際學校
X-ORIGINAL-URL:https://web.kcislk.ntpc.edu.tw/en
X-WR-CALDESC:Events for 林口康橋國際學校
REFRESH-INTERVAL;VALUE=DURATION:PT1H
X-Robots-Tag:noindex
X-PUBLISHED-TTL:PT1H
BEGIN:VTIMEZONE
TZID:Asia/Taipei
BEGIN:STANDARD
TZOFFSETFROM:+0800
TZOFFSETTO:+0800
TZNAME:CST
DTSTART:20220101T000000
END:STANDARD
END:VTIMEZONE
BEGIN:VEVENT
DTSTART;TZID=Asia/Taipei:20260417T093000
DTEND;TZID=Asia/Taipei:20260417T113000
DTSTAMP:20260422T215235
CREATED:20260206T004809Z
LAST-MODIFIED:20260206T010501Z
UID:49046-1776418200-1776425400@web.kcislk.ntpc.edu.tw
SUMMARY:G8咖啡講座—直升/會考組課程介紹 G8 Coffee Talk — Introduction to the Direct Entry/Senior High School Entrance Examination Curriculum Group
DESCRIPTION:Event Target: G8 SP parent\nOrganizer: SSDAA\, Secondary School\nRegistration Link: forms.gle/GzVphfncNFQ4wEDC6\n*Please refer to the internal school announcement for event details. \n活動對象：G8 SP家長\n主辦單位：中學部教務處\n報名連結：forms.gle/GzVphfncNFQ4wEDC6\n※活動細節請依校內公告為準
URL:https://web.kcislk.ntpc.edu.tw/en/event/g8%e5%92%96%e5%95%a1%e8%ac%9b%e5%ba%a7-%e7%9b%b4%e5%8d%87-%e6%9c%83%e8%80%83%e7%b5%84%e8%aa%b2%e7%a8%8b%e4%bb%8b%e7%b4%b9-g8-coffee-talk-introduction-to-the-direct-entry-senior-high/
LOCATION:林口康橋國際學校 小劇場\, 新北市林口區興林路55號\, Linkou\, New Taipei City\, 244\, Taiwan
CATEGORIES:中學部教務處 (SS DAA)
ATTACH;FMTTYPE=image/png:https://web.kcislk.ntpc.edu.tw/wp-content/uploads/2023/08/kcislkteams-4.png
END:VEVENT
BEGIN:VEVENT
DTSTART;TZID=Asia/Taipei:20251128T140000
DTEND;TZID=Asia/Taipei:20251128T160000
DTSTAMP:20260422T215235
CREATED:20250822T045312Z
LAST-MODIFIED:20250822T083339Z
UID:43384-1764338400-1764345600@web.kcislk.ntpc.edu.tw
SUMMARY:G11咖啡講座—大學入學管道說明—繁星、個人申請介紹 G11 Coffee Conversation - University Admissions Introduction
DESCRIPTION:親愛的家長您好： \n敬邀家長參加教務處於本學期將針對雙語班家長舉辦的四場咖啡講座，除了主要建議參加的年段之外，也歡迎其他有興趣了解的各年段家長們參加。 \n☆活動地點：\n將依報名人數調整，活動當天於中學部大門入校時，將會有老師指引至活動地點。 \n☆各場次日期/時間/主題如下： \n\n\n8/13(三)14:00~16:00 G10咖啡講座—大學選才與高中課程的連結及升學輔導說明(13:30~14:00報到)\n10/23(四)09:30~11:30 G9咖啡講座—國中會考準備(9:00~9:30報到)\n11/6(四)14:00-16:00 G8咖啡講座—雙語班的升學分流(13:30~14:00報到)\n11/28(五)14:00-16:00 G11咖啡講座—大學入學管道說明—繁星、個人申請介紹(13:30~14:00報到)\n\n敬邀家長們參與。◉  請於11/20(四)中午12:00 前完成報名。\n◉  如有任何講座報名之問題，歡迎致電升學組  黃莉蓁組長(02-8512-8084) \n\n\n\n                                                                                           林口康橋國際學校 誠摯邀請您\n\n\nEvent Target: G7-G11 SP parent\nOrganizer: SSDAA\, Secondary School\nRegistration Link: https://forms.gle/j4LNd2AM6Sp2an3R9\n*Please refer to the internal school announcement for event details. \n活動對象：G7-G11 SP家長\n主辦單位：中學部教務處\n報名連結：https://forms.gle/j4LNd2AM6Sp2an3R9 \n※活動細節請依校內公告為準
URL:https://web.kcislk.ntpc.edu.tw/en/event/g11%e5%92%96%e5%95%a1%e8%ac%9b%e5%ba%a7-%e5%a4%a7%e5%ad%b8%e5%85%a5%e5%ad%b8%e7%ae%a1%e9%81%93%e8%aa%aa%e6%98%8e-%e7%b9%81%e6%98%9f%e3%80%81%e5%80%8b%e4%ba%ba%e7%94%b3%e8%ab%8b-2/
LOCATION:New Taipei City
CATEGORIES:中學部教務處 (SS DAA)
ATTACH;FMTTYPE=image/png:https://web.kcislk.ntpc.edu.tw/wp-content/uploads/2023/08/kcislkteams-4.png
END:VEVENT
BEGIN:VEVENT
DTSTART;TZID=Asia/Taipei:20251106T140000
DTEND;TZID=Asia/Taipei:20251106T160000
DTSTAMP:20260422T215235
CREATED:20250822T044938Z
LAST-MODIFIED:20260105T004655Z
UID:43381-1762437600-1762444800@web.kcislk.ntpc.edu.tw
SUMMARY:G8咖啡講座—雙語班的升學分流 G8 Coffee Conversation - SP's Admission Stream
DESCRIPTION:親愛的家長您好： \n敬邀家長參加教務處於本學期將針對雙語班家長舉辦的四場咖啡講座，除了主要建議參加的年段之外，也歡迎其他有興趣了解的各年段家長們參加。 \n☆活動地點：\n將依報名人數調整，活動當天於中學部大門入校時，將會有老師指引至活動地點。 \n☆各場次日期/時間/主題如下： \n\n\n8/13(三)14:00~16:00 G10咖啡講座—大學選才與高中課程的連結及升學輔導說明(13:30~14:00報到)\n10/23(四)09:30~11:30 G9咖啡講座—國中會考準備(9:00~9:30報到)\n11/6(四)14:00-16:00 G8咖啡講座—雙語班的升學分流(13:30~14:00報到)\n11/28(五) 14:00-16:00 G11咖啡講座—大學入學管道說明—繁星、個人申請介紹(13:30~14:00報到)\n\n敬邀家長們參與。◉  請於10/30(四)中午12:00 前完成報名。\n◉  如有任何講座報名之問題，歡迎致電升學組  黃莉蓁組長(02-8512-8084) \n\n\n\n                                                                                           林口康橋國際學校 誠摯邀請您\n\n\nEvent Target: G7-G8 SP parent\nOrganizer: SSDAA\, Secondary School\nRegistration Link: https://forms.gle/VrBsCGYnJn1nVaoh8 \n*Please refer to the internal school announcement for event details. \n活動對象：G7-G8 SP家長\n主辦單位：中學部教務處\n報名連結：https://forms.gle/VrBsCGYnJn1nVaoh8 \n※活動細節請依校內公告為準
URL:https://web.kcislk.ntpc.edu.tw/en/event/g8%e5%92%96%e5%95%a1%e8%ac%9b%e5%ba%a7-%e9%9b%99%e8%aa%9e%e7%8f%ad%e7%9a%84%e5%8d%87%e5%ad%b8%e5%88%86%e6%b5%81-g8-coffee-conversation-sps-admission-stream/
LOCATION:林口康橋國際學校 校區\, 新北市林口區興林路55號\, Linkou\, New Taipei City\, 244\, Taiwan
CATEGORIES:中學部教務處 (SS DAA)
ATTACH;FMTTYPE=image/png:https://web.kcislk.ntpc.edu.tw/wp-content/uploads/2023/08/kcislkteams-4.png
END:VEVENT
BEGIN:VEVENT
DTSTART;TZID=Asia/Taipei:20251023T093000
DTEND;TZID=Asia/Taipei:20251023T113000
DTSTAMP:20260422T215235
CREATED:20250822T044432Z
LAST-MODIFIED:20260105T004702Z
UID:43378-1761211800-1761219000@web.kcislk.ntpc.edu.tw
SUMMARY:G9咖啡講座—國中會考的準備 G9 Coffee Conversation - Preparation of Comprehensive Assessment Program for Junior High School Students
DESCRIPTION:親愛的家長您好： \n敬邀家長參加教務處於本學期將針對雙語班家長舉辦的四場咖啡講座，除了主要建議參加的年段之外，也歡迎其他有興趣了解的各年段家長們參加。 \n☆活動地點：\n將依報名人數調整，活動當天於中學部大門入校時，將會有老師指引至活動地點。 \n☆各場次日期/時間/主題如下： \n\n\n8/13(三)14:00~16:00 G10咖啡講座—大學選才與高中課程的連結及升學輔導說明(13:30~14:00報到)\n10/23(四)09:30~11:30 G9咖啡講座—國中會考準備(9:00~9:30報到)\n11/6(四)14:00-16:00 G8咖啡講座—雙語班的升學分流(13:30~14:00報到)\n11/28(五)14:00-16:00 G11咖啡講座—大學入學管道說明—繁星、個人申請介紹13:30~14:00報到)\n\n敬邀家長們參與。◉  請於10/16(四)中午12:00 前完成報名。\n◉  如有任何講座報名之問題，歡迎致電升學組  黃莉蓁組長(02-8512-8084) \n\n\n\n                                                                                           林口康橋國際學校 誠摯邀請您\n\n\nEvent Target: G7-G9 parents\nOrganizer: SSDAA\, Secondary School\nRegistration Link: https://forms.gle/T18XhNiBw269QnHN9 \n*Please refer to the internal school announcement for event details. \n活動對象：G7-G9家長\n主辦單位：中學部教務處\n報名連結：https://forms.gle/T18XhNiBw269QnHN9 \n※活動細節請依校內公告為準
URL:https://web.kcislk.ntpc.edu.tw/en/event/g9%e5%92%96%e5%95%a1%e8%ac%9b%e5%ba%a7-%e5%9c%8b%e4%b8%ad%e6%9c%83%e8%80%83%e7%9a%84%e6%ba%96%e5%82%99-g9-coffee-conversation-preparation-of-comprehensive-assessment-program-for-junior-high/
LOCATION:林口康橋國際學校 校區\, 新北市林口區興林路55號\, Linkou\, New Taipei City\, 244\, Taiwan
CATEGORIES:中學部教務處 (SS DAA)
ATTACH;FMTTYPE=image/png:https://web.kcislk.ntpc.edu.tw/wp-content/uploads/2023/08/kcislkteams-4.png
END:VEVENT
BEGIN:VEVENT
DTSTART;TZID=Asia/Taipei:20250613T090000
DTEND;TZID=Asia/Taipei:20250613T113000
DTSTAMP:20260422T215235
CREATED:20250213T064541Z
LAST-MODIFIED:20250602T003022Z
UID:24304-1749805200-1749814200@web.kcislk.ntpc.edu.tw
SUMMARY:G7咖啡講座—升八年級的準備 G7 Coffee Lecture — Preparations for Rising Eighth Graders
DESCRIPTION:親愛的家長您好： \n敬邀家長參加教務處於本學期將針對雙語班家長舉辦的四場咖啡講座，除了主要建議參加的年段之外，也歡迎其他有興趣了解的各年段家長們參加。 \n☆活動地點：\n多功能教室，活動當天於中學部大門入校時，將會有老師指引至活動地點。 \n☆各場次日期/時間/主題如下：\n4/11(五)09:30~11:30 G8咖啡講座—直升/會考組課程介紹\n5/9(五)09:30~11:30 G9咖啡講座—教育會考重要日程與邁向高中的準備\n5/23(五)13:30-16:00 G10咖啡講座—文理班群介紹及選擇\n6/13(五)09:30~11:30 G7咖啡講座—升八年級的準備\n\n敬邀家長們參與。◉  請於6/9(一)中午12:00 前完成報名。\n◉  如有任何講座報名之問題，歡迎致電升學組  黃莉蓁組長(02-8512-8084)\n\n\n                                                                                           林口康橋國際學校 誠摯邀請您
URL:https://web.kcislk.ntpc.edu.tw/en/event/g7%e5%92%96%e5%95%a1%e8%ac%9b%e5%ba%a7-%e5%8d%87%e5%85%ab%e5%b9%b4%e7%b4%9a%e7%9a%84%e6%ba%96%e5%82%99-g7-coffee-lecture-preparations-for-rising-eighth-graders/
LOCATION:林口康橋國際學校 多功能教室\, 新北市林口區興林路55號
CATEGORIES:中學部教務處 (SS DAA)
ATTACH;FMTTYPE=image/png:https://web.kcislk.ntpc.edu.tw/wp-content/uploads/2023/08/kcislkteams-4.png
END:VEVENT
BEGIN:VEVENT
DTSTART;TZID=Asia/Taipei:20250523T133000
DTEND;TZID=Asia/Taipei:20250523T160000
DTSTAMP:20260422T215235
CREATED:20250213T063718Z
LAST-MODIFIED:20260105T004646Z
UID:24300-1748007000-1748016000@web.kcislk.ntpc.edu.tw
SUMMARY:G10咖啡講座—文理班群介紹及選擇 G10 Coffee Lecture — Introduction and Selection of Liberal Arts and Science Class Groups
DESCRIPTION:親愛的家長您好： \n敬邀家長參加教務處於本學期將針對雙語班家長舉辦的四場咖啡講座，除了主要建議參加的年段之外，也歡迎其他有興趣了解的各年段家長們參加。 \n☆活動地點：\n多功能教室，活動當天於中學部大門入校時，將會有老師指引至活動地點。 \n☆各場次日期/時間/主題如下： \n\n4/11(五)09:30~11:30 G8咖啡講座—直升/會考組課程介紹\n5/9(五)09:30~11:30 G9咖啡講座—教育會考重要日程與邁向高中的準備\n5/23(五)13:30-16:00 G10咖啡講座—文理班群介紹及選擇\n6/13(五)09:30~11:30 G7咖啡講座—升八年級的準備\n敬邀家長們參與。\n\n◉  請於5/19(一)中午12:00 前完成報名。\n◉  如有任何講座報名之問題，歡迎致電升學組  黃莉蓁組長(02-8512-8084) \n\n\n\n                                                                                           林口康橋國際學校 誠摯邀請您
URL:https://web.kcislk.ntpc.edu.tw/en/event/g10%e5%92%96%e5%95%a1%e8%ac%9b%e5%ba%a7-%e6%96%87%e7%90%86%e7%8f%ad%e7%be%a4%e4%bb%8b%e7%b4%b9%e5%8f%8a%e9%81%b8%e6%93%87-g10-coffee-lecture-introduction-and-selection-of-liberal-art/
LOCATION:林口康橋國際學校 校區\, 新北市林口區興林路55號\, Linkou\, New Taipei City\, 244\, Taiwan
CATEGORIES:中學部教務處 (SS DAA)
ATTACH;FMTTYPE=image/png:https://web.kcislk.ntpc.edu.tw/wp-content/uploads/2023/08/kcislkteams-4.png
END:VEVENT
BEGIN:VEVENT
DTSTART;TZID=Asia/Taipei:20250509T090000
DTEND;TZID=Asia/Taipei:20250509T113000
DTSTAMP:20260422T215235
CREATED:20250213T063252Z
LAST-MODIFIED:20250213T075440Z
UID:24294-1746781200-1746790200@web.kcislk.ntpc.edu.tw
SUMMARY:G9咖啡講座—教育會考重要日程與邁向高中的準備 G9 Coffee Lecture — Important Dates for the National Senior High School Entrance Examination and Preparations for High School
DESCRIPTION:親愛的家長您好： \n敬邀家長參加教務處於本學期將針對雙語班家長舉辦的四場咖啡講座，除了主要建議參加的年段之外，也歡迎其他有興趣了解的各年段家長們參加。 \n☆活動地點：\n多功能教室，活動當天於中學部大門入校時，將會有老師指引至活動地點。 \n☆各場次日期/時間/主題如下：\n4/11(五)09:30~11:30 G8咖啡講座—直升/會考組課程介紹\n5/9(五)09:30~11:30 G9咖啡講座—教育會考重要日程與邁向高中的準備\n5/23(五)13:30-16:00 G10咖啡講座—文理班群介紹及選擇\n6/13(五)09:30~11:30 G7咖啡講座—升八年級的準備\n\n敬邀家長們參與。\n◉  請於5/5(一)中午12:00 前完成報名。\n◉  如有任何講座報名之問題，歡迎致電升學組  黃莉蓁組長(02-8512-8084)\n\n\n  \n                                                                                           林口康橋國際學校 誠摯邀請您
URL:https://web.kcislk.ntpc.edu.tw/en/event/g9%e5%92%96%e5%95%a1%e8%ac%9b%e5%ba%a7-%e6%95%99%e8%82%b2%e6%9c%83%e8%80%83%e9%87%8d%e8%a6%81%e6%97%a5%e7%a8%8b%e8%88%87%e9%82%81%e5%90%91%e9%ab%98%e4%b8%ad%e7%9a%84%e6%ba%96%e5%82%99-g9-coffe/
LOCATION:New Taipei City
CATEGORIES:中學部教務處 (SS DAA)
ATTACH;FMTTYPE=image/png:https://web.kcislk.ntpc.edu.tw/wp-content/uploads/2023/08/kcislkteams-4.png
END:VEVENT
BEGIN:VEVENT
DTSTART;TZID=Asia/Taipei:20250411T090000
DTEND;TZID=Asia/Taipei:20250411T113000
DTSTAMP:20260422T215235
CREATED:20250213T062942Z
LAST-MODIFIED:20250213T075526Z
UID:24290-1744362000-1744371000@web.kcislk.ntpc.edu.tw
SUMMARY:G8咖啡講座—直升/會考組課程介紹 G8 Coffee Lecture — Introduction to the Direct Entry/Senior High School Entrance Examination Curriculum Group
DESCRIPTION:親愛的家長您好： \n敬邀家長參加教務處於本學期將針對雙語班家長舉辦的四場咖啡講座，除了主要建議參加的年段之外，也歡迎其他有興趣了解的各年段家長們參加。 \n☆活動地點：\n多功能教室，活動當天於中學部大門入校時，將會有老師指引至活動地點。 \n☆各場次日期/時間/主題如下：\n4/11(五)09:30~11:30 G8咖啡講座—直升/會考組課程介紹\n5/9(五)09:30~11:30 G9咖啡講座—教育會考重要日程與邁向高中的準備\n5/23(五)13:30-16:00 G10咖啡講座—文理班群介紹及選擇\n6/13(五)09:30~11:30 G7咖啡講座—升八年級的準備\n\n敬邀家長們參與。\n◉  請於4/7(一)中午12:00 前完成報名。\n◉  如有任何講座報名之問題，歡迎致電升學組  黃莉蓁組長(02-8512-8084)\n\n\n \n                                                                                           林口康橋國際學校 誠摯邀請您
URL:https://web.kcislk.ntpc.edu.tw/en/event/g8%e5%92%96%e5%95%a1%e8%ac%9b%e5%ba%a7-%e7%9b%b4%e5%8d%87-%e6%9c%83%e8%80%83%e7%b5%84%e8%aa%b2%e7%a8%8b%e4%bb%8b%e7%b4%b9-g8-coffee-lecture-introduction-to-the-direct-entry-senior-hi/
LOCATION:New Taipei City
CATEGORIES:中學部教務處 (SS DAA)
ATTACH;FMTTYPE=image/png:https://web.kcislk.ntpc.edu.tw/wp-content/uploads/2023/08/kcislkteams-4.png
END:VEVENT
BEGIN:VEVENT
DTSTART;TZID=Asia/Taipei:20241122T092000
DTEND;TZID=Asia/Taipei:20241122T113000
DTSTAMP:20260422T215235
CREATED:20240909T050810Z
LAST-MODIFIED:20240909T051031Z
UID:22459-1732267200-1732275000@web.kcislk.ntpc.edu.tw
SUMMARY:G11咖啡講座—大學入學管道說明—繁星、個人申請介紹G11 Coffee Conversation — Introduction of University Admission Pathways
DESCRIPTION:Event Target:G11 SP parent\nOrganizer:DAA\, Secondary School\nRegistration Link：https://forms.gle/wa6CTLyJkyB7MQVs6\n*Please refer to the internal school announcement for event details. \n活動對象：中學部G11雙語班家長\n主辦單位：中學教務處\n報名連結：https://forms.gle/wa6CTLyJkyB7MQVs6\n※活動細節請依校內公告為準
URL:https://web.kcislk.ntpc.edu.tw/en/event/g11%e5%92%96%e5%95%a1%e8%ac%9b%e5%ba%a7-%e5%a4%a7%e5%ad%b8%e5%85%a5%e5%ad%b8%e7%ae%a1%e9%81%93%e8%aa%aa%e6%98%8e-%e7%b9%81%e6%98%9f%e3%80%81%e5%80%8b%e4%ba%ba%e7%94%b3%e8%ab%8b/
LOCATION:林口康橋國際學校 校區\, 新北市林口區興林路55號\, Linkou\, New Taipei City\, 244\, Taiwan
CATEGORIES:中學部教務處 (SS DAA)
ATTACH;FMTTYPE=image/png:https://web.kcislk.ntpc.edu.tw/wp-content/uploads/2023/08/kcislkteams-1.png
END:VEVENT
BEGIN:VEVENT
DTSTART;TZID=Asia/Taipei:20241018T092000
DTEND;TZID=Asia/Taipei:20241018T113000
DTSTAMP:20260422T215235
CREATED:20240909T045153Z
LAST-MODIFIED:20240909T051122Z
UID:22449-1729243200-1729251000@web.kcislk.ntpc.edu.tw
SUMMARY:G9咖啡講座—國中會考準備G9 Coffee Conversation — Preparation for the Comprehensive Assessment Program for Junior High School Students(CAP)
DESCRIPTION:Event Target:G9 SP parent\nOrganizer:DAA\, Secondary School\nRegistration Link：https://forms.gle/hqStePyr1C4m6EXJ8\n*Please refer to the internal school announcement for event details. \n活動對象：中學部G9雙語班家長\n主辦單位：中學教務處\n報名連結：https://forms.gle/hqStePyr1C4m6EXJ8\n※活動細節請依校內公告為準
URL:https://web.kcislk.ntpc.edu.tw/en/event/g9%e5%92%96%e5%95%a1%e8%ac%9b%e5%ba%a7-%e5%9c%8b%e4%b8%ad%e6%9c%83%e8%80%83%e6%ba%96%e5%82%99g9-coffee-conversation-preparation-for-the-comprehensive-assessment-program-for-junior-hi/
LOCATION:林口康橋國際學校 校區\, 新北市林口區興林路55號\, Linkou\, New Taipei City\, 244\, Taiwan
CATEGORIES:中學部教務處 (SS DAA)
ATTACH;FMTTYPE=image/png:https://web.kcislk.ntpc.edu.tw/wp-content/uploads/2023/08/kcislkteams-4.png
END:VEVENT
BEGIN:VEVENT
DTSTART;TZID=Asia/Taipei:20240926T092000
DTEND;TZID=Asia/Taipei:20240926T113000
DTSTAMP:20260422T215235
CREATED:20240909T044901Z
LAST-MODIFIED:20240909T051136Z
UID:22447-1727342400-1727350200@web.kcislk.ntpc.edu.tw
SUMMARY:G8咖啡講座—雙語班的升學分流G8 Coffee Conversation — Diversion of SP for Preparation for High School
DESCRIPTION:Event Target:G8 SP parent\nOrganizer:DAA\, Secondary School\nRegistration Link：https://forms.gle/FGUVV7GZXXfipzrZ6\n*Please refer to the internal school announcement for event details. \n活動對象：中學部G8雙語班家長\n主辦單位：中學教務處\n報名連結：https://forms.gle/FGUVV7GZXXfipzrZ6\n※活動細節請依校內公告為準
URL:https://web.kcislk.ntpc.edu.tw/en/event/g8%e5%92%96%e5%95%a1%e8%ac%9b%e5%ba%a7-%e9%9b%99%e8%aa%9e%e7%8f%ad%e7%9a%84%e5%8d%87%e5%ad%b8%e5%88%86%e6%b5%81g8-coffee-conversation-diversion-of-sp-for-preparation-for-high-school/
LOCATION:林口康橋國際學校 校區\, 新北市林口區興林路55號\, Linkou\, New Taipei City\, 244\, Taiwan
CATEGORIES:中學部教務處 (SS DAA)
ATTACH;FMTTYPE=image/png:https://web.kcislk.ntpc.edu.tw/wp-content/uploads/2023/08/kcislkteams-4.png
END:VEVENT
BEGIN:VEVENT
DTSTART;TZID=Asia/Taipei:20240821T092000
DTEND;TZID=Asia/Taipei:20240821T110000
DTSTAMP:20260422T215235
CREATED:20240909T044306Z
LAST-MODIFIED:20240909T051252Z
UID:22440-1724232000-1724238000@web.kcislk.ntpc.edu.tw
SUMMARY:G10咖啡講座—大學選才與高中課程的連結及升學輔導說明G10 Coffee Conversation — Connecting University Admissions with High School Curriculum and the Explanation of College Counseling
DESCRIPTION:Event Target:G10 SP parent\nOrganizer:DAA\, Secondary School\nRegistration Link：https://forms.gle/ukxz3qMq2s8NHB72A\n*Please refer to the internal school announcement for event details. \n活動對象：中學部G10雙語班家長\n主辦單位：中學教務處\n報名連結：https://forms.gle/ukxz3qMq2s8NHB72A\n※活動細節請依校內公告為準
URL:https://web.kcislk.ntpc.edu.tw/en/event/g10%e5%92%96%e5%95%a1%e8%ac%9b%e5%ba%a7-%e5%a4%a7%e5%ad%b8%e9%81%b8%e6%89%8d%e8%88%87%e9%ab%98%e4%b8%ad%e8%aa%b2%e7%a8%8b%e7%9a%84%e9%80%a3%e7%b5%90%e5%8f%8a%e5%8d%87%e5%ad%b8%e8%bc%94/
LOCATION:林口康橋國際學校 校區\, 新北市林口區興林路55號\, Linkou\, New Taipei City\, 244\, Taiwan
CATEGORIES:中學部教務處 (SS DAA)
ATTACH;FMTTYPE=image/png:https://web.kcislk.ntpc.edu.tw/wp-content/uploads/2023/08/kcislkteams-4.png
END:VEVENT
BEGIN:VEVENT
DTSTART;TZID=Asia/Taipei:20240531T092000
DTEND;TZID=Asia/Taipei:20240531T102000
DTSTAMP:20260422T215235
CREATED:20240301T054641Z
LAST-MODIFIED:20240314T002042Z
UID:21492-1717147200-1717150800@web.kcislk.ntpc.edu.tw
SUMMARY:G10咖啡會-文理班群介紹 G10 Coffee and Conversation-Introduction to Humanities Stream and Science Stream
DESCRIPTION:Event Target:Parents of SP G7-G10 Students\nLocation:1F Theater\, Performing Arts Building\nOrganizer:Department of Academic Affairs\, Secondary School\nRegistration Link:https://forms.gle/QQBVJzXTDa7HJEhTA\n*Please refer to the internal school announcement for event details. \n活動對象：雙語班G7-G10家長\n地　　點：小劇場\n主辦單位：中學部教務處\n報名連結：https://forms.gle/QQBVJzXTDa7HJEhTA\n※活動細節請依校內公告為準
URL:https://web.kcislk.ntpc.edu.tw/en/event/20240531/
LOCATION:林口康橋國際學校 小劇場\, 新北市林口區興林路55號\, Linkou\, New Taipei City\, 244\, Taiwan
CATEGORIES:中學部教務處 (SS DAA)
ATTACH;FMTTYPE=image/png:https://web.kcislk.ntpc.edu.tw/wp-content/uploads/2023/08/kcislkteams-4.png
END:VEVENT
BEGIN:VEVENT
DTSTART;TZID=Asia/Taipei:20240510T092000
DTEND;TZID=Asia/Taipei:20240510T102000
DTSTAMP:20260422T215235
CREATED:20240301T053823Z
LAST-MODIFIED:20240416T032844Z
UID:21488-1715332800-1715336400@web.kcislk.ntpc.edu.tw
SUMMARY:G9咖啡會-教育會考與適性升學，邁向高中的準備 G9 Coffee and Conversation-Education Qualifying Exams and Adaptive Schooling: Preparing for Junior High School Comprehensive Assessment Program
DESCRIPTION:Event Target:Parents of SP G7-G9 Students\nLocation:1F Theater\, Performing Arts Building\nOrganizer:Department of Academic Affairs\, Secondary School\nRegistration Link:https://forms.gle/QQBVJzXTDa7HJEhTA\n*Please refer to the internal school announcement for event details. \n活動對象：雙語班G7-G9家長\n地　　點：小劇場\n主辦單位：中學部教務處\n報名連結：https://forms.gle/QQBVJzXTDa7HJEhTA\n※活動細節請依校內公告為準
URL:https://web.kcislk.ntpc.edu.tw/en/event/202404252/
LOCATION:林口康橋國際學校 小劇場\, 新北市林口區興林路55號\, Linkou\, New Taipei City\, 244\, Taiwan
CATEGORIES:中學部教務處 (SS DAA)
ATTACH;FMTTYPE=image/png:https://web.kcislk.ntpc.edu.tw/wp-content/uploads/2023/08/kcislkteams-4.png
END:VEVENT
BEGIN:VEVENT
DTSTART;TZID=Asia/Taipei:20240502T092000
DTEND;TZID=Asia/Taipei:20240502T102000
DTSTAMP:20260422T215235
CREATED:20240301T054427Z
LAST-MODIFIED:20240314T002106Z
UID:21490-1714641600-1714645200@web.kcislk.ntpc.edu.tw
SUMMARY:G7咖啡會-雙語班課程與學習分享 G7 Coffee and Conversation- SP Curriculum and Learning Sharing
DESCRIPTION:Event Target:Parents of SP G7 Students\nLocation:1F Theater\, Performing Arts Building\nOrganizer:Department of Academic Affairs\, Secondary School\nRegistration Link:https://forms.gle/QQBVJzXTDa7HJEhTA\n*Please refer to the internal school announcement for event details. \n活動對象：雙語班G7家長\n地　　點：小劇場\n主辦單位：中學部教務處\n報名連結：https://forms.gle/QQBVJzXTDa7HJEhTA\n※活動細節請依校內公告為準
URL:https://web.kcislk.ntpc.edu.tw/en/event/20240500/
LOCATION:林口康橋國際學校 小劇場\, 新北市林口區興林路55號\, Linkou\, New Taipei City\, 244\, Taiwan
CATEGORIES:中學部教務處 (SS DAA)
ATTACH;FMTTYPE=image/png:https://web.kcislk.ntpc.edu.tw/wp-content/uploads/2023/08/kcislkteams-4.png
END:VEVENT
BEGIN:VEVENT
DTSTART;TZID=Asia/Taipei:20240412T092000
DTEND;TZID=Asia/Taipei:20240412T222000
DTSTAMP:20260422T215235
CREATED:20240301T053654Z
LAST-MODIFIED:20240314T002131Z
UID:21486-1712913600-1712960400@web.kcislk.ntpc.edu.tw
SUMMARY:G8咖啡會-直升/會考課程介紹、分流作業說明及雙語班課程規劃與學習分享 G8 Coffee and Conversation-Introduction to Direct Entry/CAP Classes\, Adaptive Class Placement\, and SP Curriculum Planning and Learning Sharing
DESCRIPTION:Event Target:Parents of SP G7-G8 Students\nLocation:1F Theater\, Performing Arts Building\nOrganizer:Department of Academic Affairs\, Secondary School\nRegistration Link:https://forms.gle/QQBVJzXTDa7HJEhTA\n*Please refer to the internal school announcement for event details. \n活動對象：雙語班G7-G8家長\n地　　點：小劇場\n主辦單位：中學部教務處\n報名連結：https://forms.gle/QQBVJzXTDa7HJEhTA\n※活動細節請依校內公告為準
URL:https://web.kcislk.ntpc.edu.tw/en/event/20240142/
LOCATION:林口康橋國際學校 小劇場\, 新北市林口區興林路55號\, Linkou\, New Taipei City\, 244\, Taiwan
CATEGORIES:中學部教務處 (SS DAA)
ATTACH;FMTTYPE=image/png:https://web.kcislk.ntpc.edu.tw/wp-content/uploads/2023/08/kcislkteams-4.png
END:VEVENT
BEGIN:VEVENT
DTSTART;TZID=Asia/Taipei:20231221T090000
DTEND;TZID=Asia/Taipei:20231221T113000
DTSTAMP:20260422T215235
CREATED:20230720T020117Z
LAST-MODIFIED:20240314T002142Z
UID:14135-1703149200-1703158200@web.kcislk.ntpc.edu.tw
SUMMARY:雙語班如何準備大學升學 Guidelines for College Preparation for SP Students
DESCRIPTION:Target Audience: \nG11 SP Parents \n(G8~12 SP Parents are also welcome to attend) \nLocation: 1F Theater\, Performing Arts Building \nOrganizer: Department of Academic Affairs\, Secondary School \nRegistration Link：LINK \n*Please refer to the internal school announcement for event details. \n  \n  \n活動對象：G11 SP(G8-G12) \n地　　點：小劇場\n主辦單位：中學部教務處 \n報名連結：LINK \n  \n※活動細節請依校內公告為準
URL:https://web.kcislk.ntpc.edu.tw/en/event/%e9%9b%99%e8%aa%9e%e7%8f%ad%e5%a6%82%e4%bd%95%e6%ba%96%e5%82%99%e5%a4%a7%e5%ad%b8%e5%8d%87%e5%ad%b8daa/
LOCATION:林口康橋國際學校 小劇場\, 新北市林口區興林路55號\, Linkou\, New Taipei City\, 244\, Taiwan
CATEGORIES:中學部教務處 (SS DAA)
ATTACH;FMTTYPE=image/png:https://web.kcislk.ntpc.edu.tw/wp-content/uploads/2023/08/kcislkteams-4.png
END:VEVENT
BEGIN:VEVENT
DTSTART;TZID=Asia/Taipei:20231016T110000
DTEND;TZID=Asia/Taipei:20231016T120000
DTSTAMP:20260422T215235
CREATED:20230920T050644Z
LAST-MODIFIED:20231025T004350Z
UID:18832-1697454000-1697457600@web.kcislk.ntpc.edu.tw
SUMMARY:國際雙學士學位講座International Dual Bachelor’s Degree Seminar
DESCRIPTION:The Secondary School Department of Academic Affairs will invite representatives from the International Dual Bachelor’s Degree Program at Chung Yuan Christian University and the College of International School of Technology and Management at Feng Chia University to inform parents about the application procedure\, the curriculum\, and upcoming opportunities. \nTarget Audience: \nG9-G12 SP Parents and G11-G12 IP Parents \nLocation: 1F\, School History Room\nOrganizer: Department of Academic Affairs\, Secondary School\nRegistration Link：LINK\n*Please refer to the internal school announcement for event details. \n  \n中學教務處將在10/16(一)邀請逢甲大學國際科技與管理學院、中原大學國際雙學士至校說明雙聯學制的甄選方式、課程規劃、未來發展等。\n活動對象：SP雙語班G9-G12、 IP留學班 G11-G12家長\n地　　點：一樓校史室 (如人數過多，將轉移至小劇場)\n主辦單位：中學部教務處\n報名連結：LINK\n※活動細節請依校內公告為準
URL:https://web.kcislk.ntpc.edu.tw/en/event/%e5%9c%8b%e9%9a%9b%e9%9b%99%e5%ad%b8%e5%a3%ab%e5%ad%b8%e4%bd%8d%e8%ac%9b%e5%ba%a7international-dual-bachelors-degree-seminar/
LOCATION:林口康橋國際學校 校史室\, 新北市林口區興林路55號\, Linkou\, New Taipei City\, 244\, Taiwan
CATEGORIES:中學部教務處 (SS DAA)
ATTACH;FMTTYPE=image/png:https://web.kcislk.ntpc.edu.tw/wp-content/uploads/2023/08/kcislkteams-4.png
END:VEVENT
BEGIN:VEVENT
DTSTART;TZID=Asia/Taipei:20231013T090000
DTEND;TZID=Asia/Taipei:20231013T113000
DTSTAMP:20260422T215235
CREATED:20230720T014808Z
LAST-MODIFIED:20231025T004400Z
UID:14120-1697187600-1697196600@web.kcislk.ntpc.edu.tw
SUMMARY:國中會考說明與介紹 An Overview of the Comprehensive Assessment Program for Junior High School Students(CAP)
DESCRIPTION:Target Audience: \nG9 SP Parents \n(G7/G8 SP Parents are also welcome to attend) \nLocation: 1F Theater\, Performing Arts Building \nOrganizer: Department of Academic Affairs\, Secondary School \nRegistration Link：LINK \n*Please refer to the internal school announcement for event details. \n\n活動對象：G9 SP(G7-G8)\n地　　點：小劇場\n主辦單位：中學部教務處 \n報名連結：LINK \n  \n※活動細節請依校內公告為準
URL:https://web.kcislk.ntpc.edu.tw/en/event/%e5%9c%8b%e4%b8%ad%e6%9c%83%e8%80%83%e8%aa%aa%e6%98%8e%e8%88%87%e4%bb%8b%e7%b4%b9/
LOCATION:林口康橋國際學校 小劇場\, 新北市林口區興林路55號\, Linkou\, New Taipei City\, 244\, Taiwan
CATEGORIES:中學部教務處 (SS DAA)
ATTACH;FMTTYPE=image/png:https://web.kcislk.ntpc.edu.tw/wp-content/uploads/2023/08/kcislkteams-4.png
END:VEVENT
BEGIN:VEVENT
DTSTART;TZID=Asia/Taipei:20230928T090000
DTEND;TZID=Asia/Taipei:20230928T113000
DTSTAMP:20260422T215235
CREATED:20230720T014555Z
LAST-MODIFIED:20231025T004410Z
UID:14116-1695891600-1695900600@web.kcislk.ntpc.edu.tw
SUMMARY:直升還是會考，選擇停看聽Direct Entrance Classes and CAP Classes: Pause\, Examine\, and Listen Before Making a Decision
DESCRIPTION:Target Audience: \nG8 SP Parents \n(G7 SP Parents are also welcome to attend) \nLocation: 1F Theater\, Performing Arts Building \nOrganizer: Department of Academic Affairs\, Secondary School \nRegistration Link：LINK \n*Please refer to the internal school announcement for event details. \n  \n\n活動對象：G8 SP (G7 SP)\n地　　點：小劇場\n主辦單位：中學部教務處 \n報名連結：LINK \n  \n※活動細節請依校內公告為準
URL:https://web.kcislk.ntpc.edu.tw/en/event/%e7%9b%b4%e5%8d%87%e9%82%84%e6%98%af%e6%9c%83%e8%80%83%ef%bc%8c%e9%81%b8%e6%93%87%e5%81%9c%e7%9c%8b%e8%81%bd/
LOCATION:林口康橋國際學校 小劇場\, 新北市林口區興林路55號\, Linkou\, New Taipei City\, 244\, Taiwan
CATEGORIES:中學部教務處 (SS DAA)
ATTACH;FMTTYPE=image/png:https://web.kcislk.ntpc.edu.tw/wp-content/uploads/2023/08/kcislkteams-4.png
END:VEVENT
END:VCALENDAR